BEGIN:VCALENDAR
VERSION:2.0
PRODID:-//First United Methodist Church of LaGrange, Georgia - ECPv6.15.20//NONSGML v1.0//EN
CALSCALE:GREGORIAN
METHOD:PUBLISH
X-WR-CALNAME:First United Methodist Church of LaGrange, Georgia
X-ORIGINAL-URL:https://lagrangefumc.org
X-WR-CALDESC:Events for First United Methodist Church of LaGrange, Georgia
REFRESH-INTERVAL;VALUE=DURATION:PT1H
X-Robots-Tag:noindex
X-PUBLISHED-TTL:PT1H
BEGIN:VTIMEZONE
TZID:America/New_York
BEGIN:DAYLIGHT
TZOFFSETFROM:-0500
TZOFFSETTO:-0400
TZNAME:EDT
DTSTART:20250309T070000
END:DAYLIGHT
BEGIN:STANDARD
TZOFFSETFROM:-0400
TZOFFSETTO:-0500
TZNAME:EST
DTSTART:20251102T060000
END:STANDARD
BEGIN:DAYLIGHT
TZOFFSETFROM:-0500
TZOFFSETTO:-0400
TZNAME:EDT
DTSTART:20260308T070000
END:DAYLIGHT
BEGIN:STANDARD
TZOFFSETFROM:-0400
TZOFFSETTO:-0500
TZNAME:EST
DTSTART:20261101T060000
END:STANDARD
BEGIN:DAYLIGHT
TZOFFSETFROM:-0500
TZOFFSETTO:-0400
TZNAME:EDT
DTSTART:20270314T070000
END:DAYLIGHT
BEGIN:STANDARD
TZOFFSETFROM:-0400
TZOFFSETTO:-0500
TZNAME:EST
DTSTART:20271107T060000
END:STANDARD
END:VTIMEZONE
BEGIN:VEVENT
DTSTART;TZID=America/New_York:20260422T173000
DTEND;TZID=America/New_York:20260422T190000
DTSTAMP:20260422T062418
CREATED:20260402T183437Z
LAST-MODIFIED:20260402T183437Z
UID:6971-1776879000-1776884400@lagrangefumc.org
SUMMARY:Wednesday Night Kids
DESCRIPTION:Wednesday nights belong to the kids. Grades K–5 gather for a hot meal\, good friends\, and faith-filled adventures. New faces are always welcome — and bringing a friend is kind of the whole point. \nA love offering is accepted to help cover the cost of dinner.
URL:https://lagrangefumc.org/event/wednesday-night-kids-3/
LOCATION:Wesley Hall\, 403 Broad St.\, Lagrange\, GA\, 30240-2633\, United States
ATTACH;FMTTYPE=image/png:https://lagrangefumc.org/wp-content/uploads/2026/03/Colorful-fun-for-Wednesday-night-kids.png
ORGANIZER;CN="Children's Ministry":MAILTO:susannah@lagrangefumc.org
END:VEVENT
BEGIN:VEVENT
DTSTART;TZID=America/New_York:20260422T173000
DTEND;TZID=America/New_York:20260422T190000
DTSTAMP:20260422T062418
CREATED:20260413T204342Z
LAST-MODIFIED:20260416T194451Z
UID:6983-1776879000-1776884400@lagrangefumc.org
SUMMARY:We Eat Wednesdays + Community Talks
DESCRIPTION:Join us as we gather for the final mid-week meal of the season. \nIt’s a special Ask-a-Pastor-Anything with Rev. Thomas Martin + get a walkthrough of the newly renovated Children’s Building! \nOn the menu: Burgers & hot dogs\, chips\, slaw\, chili\, salad bar + ice cream bar for dessert. \nNo reservations · Bring a friend (or 5!) · College students eat free! \nLove offerings are accepted to cover the cost of the meal.
URL:https://lagrangefumc.org/event/we-eat-wednesdays-community-talks/
LOCATION:Wesley Hall\, 403 Broad St.\, Lagrange\, GA\, 30240-2633\, United States
CATEGORIES:Community Event,Fellowship
ATTACH;FMTTYPE=image/png:https://lagrangefumc.org/wp-content/uploads/2026/03/WEW_Featured-IMG_Events.png
ORGANIZER;CN="LaGrange First UMC":MAILTO:churchoffice@lagrangefumc.org
END:VEVENT
BEGIN:VEVENT
DTSTART;TZID=America/New_York:20260422T173000
DTEND;TZID=America/New_York:20260422T190000
DTSTAMP:20260422T062418
CREATED:20260416T204727Z
LAST-MODIFIED:20260416T204727Z
UID:7005-1776879000-1776884400@lagrangefumc.org
SUMMARY:Wednesday Night Youth
DESCRIPTION:Here’s the thing about Wednesday nights — they’re better with your people. Grades 6–12 meet each week during the school year for food\, community\, and faith that meets them where they are. Bring a friend! \nLove offerings welcome to cover the cost of the meal.
URL:https://lagrangefumc.org/event/wednesday-night-youth-2/
LOCATION:Wesley Hall\, 403 Broad St.\, Lagrange\, GA\, 30240-2633\, United States
CATEGORIES:Fellowship,Youth Ministry
ATTACH;FMTTYPE=image/png:https://lagrangefumc.org/wp-content/uploads/2026/03/Wednesday-Night-Youth-Featured-Img-Slide.png
ORGANIZER;CN="Youth Ministry":MAILTO:jgill@lagrangefumc.org
END:VEVENT
END:VCALENDAR